BEGIN:VCALENDAR
VERSION:2.0
PRODID:-//ExpressionEngine Easy iCalendar plugin//NONSGML v2.0.0//EN
X-WR-TIMEZONE:Pacific/Honolulu
X-WR-CALNAME:Upcoming Auctions
BEGIN:VEVENT
UID:126281
DTSTAMP:20240829T010000
DTSTART:20240829T010000
DTEND:20240917T190000
SUMMARY:09/17 Anahola (KAUAI) Personal Property Auction
LOCATION:4-4930 Kuhio Hwy\, Anahola\, HI 96703\, US
DESCRIPTION:This is an online-only auction\, items are located in the Sta
 te of Hawaii on the Island of Kauai Live Preview: No Live Pr
 eview Auction Begins Ending: Tuesday\, September 17th 7pm Onl
 ine Only Item Pick Up Must Be: Wednesday\, September 18th\, 10
  am - 3pm in Anahola NO CASH ACCEPTED - CREDIT CARD ONLY 
URL:https://www.malamaauctions.com/auctions/detail/bw126281
SEQUENCE:1
END:VEVENT
END:VCALENDAR